BEGIN:VCALENDAR
VERSION:2.0
PRODID:spatie/icalendar-generator
DESCRIPTION:Events from Ayuntamiento de Horcajuelo de la Sierra
X-WR-CALDESC:Events from Ayuntamiento de Horcajuelo de la Sierra
REFRESH-INTERVAL;VALUE=DURATION:PT1440M
X-PUBLISHED-TTL:PT1440M
BEGIN:VTIMEZONE
TZID:Etc/GMT+0
BEGIN:STANDARD
DTSTART:20250720T163000Z
TZOFFSETFROM:+0000
TZOFFSETTO:+0000
END:STANDARD
END:VTIMEZONE
BEGIN:VTIMEZONE
TZID:UTC
BEGIN:STANDARD
DTSTART:20250729T114044Z
TZOFFSETFROM:+0000
TZOFFSETTO:+0000
END:STANDARD
END:VTIMEZONE
BEGIN:VEVENT
UID:208-173
DTSTAMP:20260425T114044Z
SUMMARY:DECRETO CONVOCATORIA PLENO  SESIÓN EXTRAORDINARIA EL DÍA 16/04/20
 26
LOCATION:Ayuntamiento de Horcajuelo de la Sierra Dirección: Pl. San Antoni
 o Alta\, 1  Horcajuelo de la Sierra  Madrid 28191
ORGANIZER;CN=SGH:MAILTO:admon.horcajuelo@gmail.com
DTSTART;TZID=Etc/GMT+0:20260416T163000
DTEND;TZID=Etc/GMT+0:20260416T173000
X-ALT-DESC;FMTTYPE=TEXT/HTML:Por decreto municipal se convoca el Pleno en S
 ESIÓN EXTRAORDINARIA de la Corporación local. La sesión tendrá lugar e
 l 16 de abril de 2026\, a las 16:30 horas\, en el Salón de Plenos del Ayu
 ntamiento.
CATEGORIES:General
URL;VALUE=URI:https://horcajuelodelasierra.es/mc-events/decreto-convocatori
 a-pleno-sesion-extraordinaria-el-dia-16-04-2026/
METHOD:PUBLISH
END:VEVENT
END:VCALENDAR