BEGIN:VCALENDAR
VERSION:2.0
PRODID:spatie/icalendar-generator
DESCRIPTION:Events from Ayuntamiento de Horcajuelo de la Sierra
X-WR-CALDESC:Events from Ayuntamiento de Horcajuelo de la Sierra
REFRESH-INTERVAL;VALUE=DURATION:PT1440M
X-PUBLISHED-TTL:PT1440M
BEGIN:VTIMEZONE
TZID:Etc/GMT+0
BEGIN:STANDARD
DTSTART:20230514T120000Z
TZOFFSETFROM:+0000
TZOFFSETTO:+0000
END:STANDARD
END:VTIMEZONE
BEGIN:VTIMEZONE
TZID:UTC
BEGIN:STANDARD
DTSTART:20250727T082546Z
TZOFFSETFROM:+0000
TZOFFSETTO:+0000
END:STANDARD
END:VTIMEZONE
BEGIN:VEVENT
UID:144-115
DTSTAMP:20260423T082546Z
SUMMARY:Clase de yoga
LOCATION:
ORGANIZER;CN=Martha Ríos:MAILTO:horcajuelosociocultural@gmail.com
DTSTART;TZID=Etc/GMT+0:20240208T120000
DTEND;TZID=Etc/GMT+0:20240208T130000
X-ALT-DESC;FMTTYPE=TEXT/HTML:
CATEGORIES:General
URL;VALUE=URI:https://horcajuelodelasierra.es/mc-events/clase-de-yoga-2/
METHOD:PUBLISH
END:VEVENT
END:VCALENDAR