BEGIN:VCALENDAR
VERSION:2.0
PRODID:spatie/icalendar-generator
DESCRIPTION:Events from Ayuntamiento de Horcajuelo de la Sierra
X-WR-CALDESC:Events from Ayuntamiento de Horcajuelo de la Sierra
REFRESH-INTERVAL;VALUE=DURATION:PT1440M
X-PUBLISHED-TTL:PT1440M
BEGIN:VTIMEZONE
TZID:Etc/GMT+0
BEGIN:STANDARD
DTSTART:20230605T123000Z
TZOFFSETFROM:+0000
TZOFFSETTO:+0000
END:STANDARD
END:VTIMEZONE
BEGIN:VTIMEZONE
TZID:UTC
BEGIN:STANDARD
DTSTART:20250727T082507Z
TZOFFSETFROM:+0000
TZOFFSETTO:+0000
END:STANDARD
END:VTIMEZONE
BEGIN:VEVENT
UID:152-123
DTSTAMP:20260423T082507Z
SUMMARY:Gimnasia para mayores
LOCATION:
ORGANIZER;CN=Martha Ríos:MAILTO:horcajuelosociocultural@gmail.com
DTSTART;TZID=Etc/GMT+0:20240301T123000
DTEND;TZID=Etc/GMT+0:20240301T133000
X-ALT-DESC;FMTTYPE=TEXT/HTML:
CATEGORIES:General
URL;VALUE=URI:https://horcajuelodelasierra.es/mc-events/gimnasia-para-mayor
 es-5/
METHOD:PUBLISH
END:VEVENT
END:VCALENDAR