BEGIN:VCALENDAR
VERSION:2.0
PRODID:spatie/icalendar-generator
DESCRIPTION:Events from Ayuntamiento de Horcajuelo de la Sierra
X-WR-CALDESC:Events from Ayuntamiento de Horcajuelo de la Sierra
REFRESH-INTERVAL;VALUE=DURATION:PT1440M
X-PUBLISHED-TTL:PT1440M
BEGIN:VTIMEZONE
TZID:Etc/GMT+0
BEGIN:STANDARD
DTSTART:20250725T131500Z
TZOFFSETFROM:+0000
TZOFFSETTO:+0000
END:STANDARD
END:VTIMEZONE
BEGIN:VTIMEZONE
TZID:UTC
BEGIN:STANDARD
DTSTART:20250727T095937Z
TZOFFSETFROM:+0000
TZOFFSETTO:+0000
END:STANDARD
END:VTIMEZONE
BEGIN:VEVENT
UID:203-171
DTSTAMP:20260423T095937Z
SUMMARY:Oficina de CaixaBank abril 2026
LOCATION:Caixabank Plaza de la Morera  Horcajuelo de la Sierra Madrid 28191
ORGANIZER;CN=SGH:MAILTO:admon.horcajuelo@gmail.com
DTSTART;TZID=Etc/GMT+0:20260421T131500
DTEND;TZID=Etc/GMT+0:20260421T141500
X-ALT-DESC;FMTTYPE=TEXT/HTML:El autobús de la oficina de CaixaBank estará
  en Horcajuelo el próximo martes 21 de abril de 2026\, en horario de 13:1
 5 a 14:15 horas.
CATEGORIES:General
URL;VALUE=URI:https://horcajuelodelasierra.es/mc-events/oficina-de-caixaban
 k-abril-2026/
METHOD:PUBLISH
END:VEVENT
END:VCALENDAR